BEGIN:VCALENDAR
VERSION:2.0
PRODID:-//Shocklach Oviatt Primary School - ECPv6.15.11//NONSGML v1.0//EN
CALSCALE:GREGORIAN
METHOD:PUBLISH
X-ORIGINAL-URL:https://www.shocklachoviatt.cheshire.sch.uk
X-WR-CALDESC:Events for Shocklach Oviatt Primary School
REFRESH-INTERVAL;VALUE=DURATION:PT1H
X-Robots-Tag:noindex
X-PUBLISHED-TTL:PT1H
BEGIN:VTIMEZONE
TZID:UTC
BEGIN:STANDARD
TZOFFSETFROM:+0000
TZOFFSETTO:+0000
TZNAME:UTC
DTSTART:20250101T000000
END:STANDARD
END:VTIMEZONE
BEGIN:VEVENT
DTSTART;VALUE=DATE:20260420
DTEND;VALUE=DATE:20260421
DTSTAMP:20260420T083458
CREATED:20251105T160050Z
LAST-MODIFIED:20251105T160050Z
UID:6545-1776643200-1776729599@www.shocklachoviatt.cheshire.sch.uk
SUMMARY:Term starts
DESCRIPTION:
URL:https://www.shocklachoviatt.cheshire.sch.uk/event/term-starts-7/
END:VEVENT
BEGIN:VEVENT
DTSTART;VALUE=DATE:20260421
DTEND;VALUE=DATE:20260422
DTSTAMP:20260420T083458
CREATED:20251007T154312Z
LAST-MODIFIED:20251007T154312Z
UID:6481-1776729600-1776815999@www.shocklachoviatt.cheshire.sch.uk
SUMMARY:Squirrels swimming
DESCRIPTION:
URL:https://www.shocklachoviatt.cheshire.sch.uk/event/squirrels-swimming/
END:VEVENT
BEGIN:VEVENT
DTSTART;VALUE=DATE:20260421
DTEND;VALUE=DATE:20260422
DTSTAMP:20260420T083458
CREATED:20260326T144236Z
LAST-MODIFIED:20260326T144236Z
UID:6791-1776729600-1776815999@www.shocklachoviatt.cheshire.sch.uk
SUMMARY:Badgers Forest School
DESCRIPTION:
URL:https://www.shocklachoviatt.cheshire.sch.uk/event/badgers-forest-school-9/
END:VEVENT
BEGIN:VEVENT
DTSTART;VALUE=DATE:20260423
DTEND;VALUE=DATE:20260424
DTSTAMP:20260420T083458
CREATED:20250922T104907Z
LAST-MODIFIED:20250922T104907Z
UID:6391-1776902400-1776988799@www.shocklachoviatt.cheshire.sch.uk
SUMMARY:Football @ Heber (Yrs 5/6)
DESCRIPTION:
URL:https://www.shocklachoviatt.cheshire.sch.uk/event/football-heber-yrs-5-6/
END:VEVENT
BEGIN:VEVENT
DTSTART;VALUE=DATE:20260428
DTEND;VALUE=DATE:20260429
DTSTAMP:20260420T083458
CREATED:20251007T154345Z
LAST-MODIFIED:20251007T154345Z
UID:6483-1777334400-1777420799@www.shocklachoviatt.cheshire.sch.uk
SUMMARY:Squirrels Swimming
DESCRIPTION:Squirrels
URL:https://www.shocklachoviatt.cheshire.sch.uk/event/squirrels-swimming-2/
END:VEVENT
BEGIN:VEVENT
DTSTART;VALUE=DATE:20260428
DTEND;VALUE=DATE:20260429
DTSTAMP:20260420T083458
CREATED:20260326T144409Z
LAST-MODIFIED:20260326T144409Z
UID:6794-1777334400-1777420799@www.shocklachoviatt.cheshire.sch.uk
SUMMARY:Foxes Forest School
DESCRIPTION:
URL:https://www.shocklachoviatt.cheshire.sch.uk/event/foxes-forest-school-12/
END:VEVENT
END:VCALENDAR