BEGIN:VCALENDAR
VERSION:2.0
PRODID:-//Shocklach Oviatt Primary School - ECPv6.15.11//NONSGML v1.0//EN
CALSCALE:GREGORIAN
METHOD:PUBLISH
X-WR-CALNAME:Shocklach Oviatt Primary School
X-ORIGINAL-URL:https://www.shocklachoviatt.cheshire.sch.uk
X-WR-CALDESC:Events for Shocklach Oviatt Primary School
REFRESH-INTERVAL;VALUE=DURATION:PT1H
X-Robots-Tag:noindex
X-PUBLISHED-TTL:PT1H
BEGIN:VTIMEZONE
TZID:UTC
BEGIN:STANDARD
TZOFFSETFROM:+0000
TZOFFSETTO:+0000
TZNAME:UTC
DTSTART:20240101T000000
END:STANDARD
END:VTIMEZONE
BEGIN:VEVENT
DTSTART;VALUE=DATE:20251003
DTEND;VALUE=DATE:20251004
DTSTAMP:20260423T081551
CREATED:20250915T100457Z
LAST-MODIFIED:20250915T100457Z
UID:6332-1759449600-1759535999@www.shocklachoviatt.cheshire.sch.uk
SUMMARY:Harvest festival worship at St Edith's
DESCRIPTION:09:30 Hedgehogs & Foxes \n14:30 Squirrels & Badgers
URL:https://www.shocklachoviatt.cheshire.sch.uk/event/harvest-festival-worship-at-st-ediths/
END:VEVENT
BEGIN:VEVENT
DTSTART;TZID=UTC:20251002T153000
DTEND;TZID=UTC:20251002T163000
DTSTAMP:20260423T081551
CREATED:20250922T101011Z
LAST-MODIFIED:20250922T101011Z
UID:6351-1759419000-1759422600@www.shocklachoviatt.cheshire.sch.uk
SUMMARY:National Poetry Day
DESCRIPTION:
URL:https://www.shocklachoviatt.cheshire.sch.uk/event/national-poetry-day/
END:VEVENT
BEGIN:VEVENT
DTSTART;VALUE=DATE:20251002
DTEND;VALUE=DATE:20251003
DTSTAMP:20260423T081551
CREATED:20250922T131851Z
LAST-MODIFIED:20250922T142452Z
UID:6418-1759363200-1759449599@www.shocklachoviatt.cheshire.sch.uk
SUMMARY:The best of British lunch theme day
DESCRIPTION:Breakfast Bap (Sausage & Egg) served with hash browns & baked beans \nor \nJacket potato served with beans/cheese \n  \nPudding \nSchool cake (Sponge topped with icing) \nor Fresh fruit platter \n 
URL:https://www.shocklachoviatt.cheshire.sch.uk/event/the-best-of-british-lunch-theme-day/
END:VEVENT
BEGIN:VEVENT
DTSTART;TZID=UTC:20251001T180000
DTEND;TZID=UTC:20251001T200000
DTSTAMP:20260423T081551
CREATED:20250922T100744Z
LAST-MODIFIED:20250922T100744Z
UID:6348-1759341600-1759348800@www.shocklachoviatt.cheshire.sch.uk
SUMMARY:Heber open day for year 6
DESCRIPTION:
URL:https://www.shocklachoviatt.cheshire.sch.uk/event/heber-open-day-for-year-6-2/
END:VEVENT
BEGIN:VEVENT
DTSTART;VALUE=DATE:20250930
DTEND;VALUE=DATE:20251001
DTSTAMP:20260423T081551
CREATED:20250904T111439Z
LAST-MODIFIED:20250904T111439Z
UID:6287-1759190400-1759276799@www.shocklachoviatt.cheshire.sch.uk
SUMMARY:Forest School - Foxes
DESCRIPTION:
URL:https://www.shocklachoviatt.cheshire.sch.uk/event/forest-school-foxes-9/
END:VEVENT
BEGIN:VEVENT
DTSTART;TZID=UTC:20250929T090000
DTEND;TZID=UTC:20250929T093000
DTSTAMP:20260423T081551
CREATED:20250922T094115Z
LAST-MODIFIED:20250922T094115Z
UID:6336-1759136400-1759138200@www.shocklachoviatt.cheshire.sch.uk
SUMMARY:Early Reading Information Meeting
DESCRIPTION:
URL:https://www.shocklachoviatt.cheshire.sch.uk/event/early-reading-information-meeting/
END:VEVENT
BEGIN:VEVENT
DTSTART;VALUE=DATE:20250925
DTEND;VALUE=DATE:20250926
DTSTAMP:20260423T081551
CREATED:20250922T100348Z
LAST-MODIFIED:20250922T100854Z
UID:6339-1758758400-1758844799@www.shocklachoviatt.cheshire.sch.uk
SUMMARY:Tag Rugby @ Heber Years 3 & 4
DESCRIPTION:
URL:https://www.shocklachoviatt.cheshire.sch.uk/event/tag-rugby-heber-years-3-4/
END:VEVENT
BEGIN:VEVENT
DTSTART;VALUE=DATE:20250923
DTEND;VALUE=DATE:20250924
DTSTAMP:20260423T081551
CREATED:20250904T111539Z
LAST-MODIFIED:20250904T111539Z
UID:6291-1758585600-1758671999@www.shocklachoviatt.cheshire.sch.uk
SUMMARY:Forest School - Badgers
DESCRIPTION:
URL:https://www.shocklachoviatt.cheshire.sch.uk/event/forest-school-badgers-9/
END:VEVENT
BEGIN:VEVENT
DTSTART;VALUE=DATE:20250922
DTEND;VALUE=DATE:20250924
DTSTAMP:20260423T081551
CREATED:20250703T130241Z
LAST-MODIFIED:20250703T130243Z
UID:6236-1758499200-1758671999@www.shocklachoviatt.cheshire.sch.uk
SUMMARY:Bikeability year 5
DESCRIPTION:
URL:https://www.shocklachoviatt.cheshire.sch.uk/event/bikeability-year-5/
END:VEVENT
BEGIN:VEVENT
DTSTART;VALUE=DATE:20250916
DTEND;VALUE=DATE:20250917
DTSTAMP:20260423T081551
CREATED:20250904T111637Z
LAST-MODIFIED:20250904T111637Z
UID:6295-1757980800-1758067199@www.shocklachoviatt.cheshire.sch.uk
SUMMARY:Forest School - Squirrels
DESCRIPTION:
URL:https://www.shocklachoviatt.cheshire.sch.uk/event/forest-school-squirrels/
END:VEVENT
BEGIN:VEVENT
DTSTART;VALUE=DATE:20250909
DTEND;VALUE=DATE:20250910
DTSTAMP:20260423T081551
CREATED:20250904T111400Z
LAST-MODIFIED:20250904T111400Z
UID:6285-1757376000-1757462399@www.shocklachoviatt.cheshire.sch.uk
SUMMARY:Forest school - Foxes
DESCRIPTION:
URL:https://www.shocklachoviatt.cheshire.sch.uk/event/forest-school-foxes-8/
END:VEVENT
BEGIN:VEVENT
DTSTART;VALUE=DATE:20250905
DTEND;VALUE=DATE:20250906
DTSTAMP:20260423T081551
CREATED:20250904T130741Z
LAST-MODIFIED:20250904T130741Z
UID:6300-1757030400-1757116799@www.shocklachoviatt.cheshire.sch.uk
SUMMARY:Squirrels PE
DESCRIPTION:
URL:https://www.shocklachoviatt.cheshire.sch.uk/event/squirrels-pe/
END:VEVENT
BEGIN:VEVENT
DTSTART;VALUE=DATE:20250903
DTEND;VALUE=DATE:20250904
DTSTAMP:20260423T081551
CREATED:20250722T084526Z
LAST-MODIFIED:20250722T084528Z
UID:6281-1756857600-1756943999@www.shocklachoviatt.cheshire.sch.uk
SUMMARY:Menu 1 for school lunches
DESCRIPTION:Menu 1
URL:https://www.shocklachoviatt.cheshire.sch.uk/event/menu-1-for-school-lunches/
END:VEVENT
BEGIN:VEVENT
DTSTART;VALUE=DATE:20250902
DTEND;VALUE=DATE:20250903
DTSTAMP:20260423T081551
CREATED:20250715T145555Z
LAST-MODIFIED:20250715T145606Z
UID:6252-1756771200-1756857599@www.shocklachoviatt.cheshire.sch.uk
SUMMARY:Staff inset day
DESCRIPTION:
URL:https://www.shocklachoviatt.cheshire.sch.uk/event/staff-inset-day/
END:VEVENT
BEGIN:VEVENT
DTSTART;VALUE=DATE:20250901
DTEND;VALUE=DATE:20250902
DTSTAMP:20260423T081551
CREATED:20250715T145654Z
LAST-MODIFIED:20250715T145654Z
UID:6254-1756684800-1756771199@www.shocklachoviatt.cheshire.sch.uk
SUMMARY:Staff inset day
DESCRIPTION:
URL:https://www.shocklachoviatt.cheshire.sch.uk/event/staff-inset-day-2/
END:VEVENT
BEGIN:VEVENT
DTSTART;TZID=UTC:20250718T143000
DTEND;TZID=UTC:20250718T151400
DTSTAMP:20260423T081551
CREATED:20240904T104527Z
LAST-MODIFIED:20250623T094827Z
UID:5696-1752849000-1752851640@www.shocklachoviatt.cheshire.sch.uk
SUMMARY:Leavers service at Shocklach Oviatt CE School 2:30pm
DESCRIPTION:
URL:https://www.shocklachoviatt.cheshire.sch.uk/event/leavers-service-at-st-ediths-ks2-only/
END:VEVENT
BEGIN:VEVENT
DTSTART;TZID=UTC:20250718T120000
DTEND;TZID=UTC:20250718T130000
DTSTAMP:20260423T081551
CREATED:20250703T130705Z
LAST-MODIFIED:20250703T130707Z
UID:6238-1752840000-1752843600@www.shocklachoviatt.cheshire.sch.uk
SUMMARY:Whole school lunch - year 6 lunch choice - Pizza!
DESCRIPTION:Whole school year 6 lunch choice
URL:https://www.shocklachoviatt.cheshire.sch.uk/event/whole-school-lunch-year-6-lunch-choice-pizza/
END:VEVENT
BEGIN:VEVENT
DTSTART;TZID=UTC:20250718T090000
DTEND;TZID=UTC:20250718T093000
DTSTAMP:20260423T081551
CREATED:20250715T145009Z
LAST-MODIFIED:20250715T145011Z
UID:6242-1752829200-1752831000@www.shocklachoviatt.cheshire.sch.uk
SUMMARY:Toast & Tales reception move up morning
DESCRIPTION:
URL:https://www.shocklachoviatt.cheshire.sch.uk/event/toast-tales-reception-move-up-morning/
END:VEVENT
BEGIN:VEVENT
DTSTART;VALUE=DATE:20250718
DTEND;VALUE=DATE:20250719
DTSTAMP:20260423T081551
CREATED:20250430T134744Z
LAST-MODIFIED:20250430T134744Z
UID:6184-1752796800-1752883199@www.shocklachoviatt.cheshire.sch.uk
SUMMARY:Whole school breaks up for Summer holidays
DESCRIPTION:
URL:https://www.shocklachoviatt.cheshire.sch.uk/event/whole-school-breaks-up-for-summer-holidays/
END:VEVENT
BEGIN:VEVENT
DTSTART;VALUE=DATE:20250717
DTEND;VALUE=DATE:20250718
DTSTAMP:20260423T081551
CREATED:20240904T104414Z
LAST-MODIFIED:20250623T094906Z
UID:5694-1752710400-1752796799@www.shocklachoviatt.cheshire.sch.uk
SUMMARY:Year 6 leavers meal - Tilston playing fields
DESCRIPTION:
URL:https://www.shocklachoviatt.cheshire.sch.uk/event/year-6-leavers-meal/
END:VEVENT
BEGIN:VEVENT
DTSTART;TZID=UTC:20250715T140000
DTEND;TZID=UTC:20250715T152000
DTSTAMP:20260423T081551
CREATED:20250624T133354Z
LAST-MODIFIED:20250624T133358Z
UID:6234-1752588000-1752592800@www.shocklachoviatt.cheshire.sch.uk
SUMMARY:The Tiger who Came to Tea - Stay and Play
DESCRIPTION:Hedgehogs stay and play afternoon
URL:https://www.shocklachoviatt.cheshire.sch.uk/event/the-tiger-who-came-to-tea-stay-and-play/
END:VEVENT
BEGIN:VEVENT
DTSTART;VALUE=DATE:20250715
DTEND;VALUE=DATE:20250716
DTSTAMP:20260423T081551
CREATED:20240904T104157Z
LAST-MODIFIED:20240904T104157Z
UID:5690-1752537600-1752623999@www.shocklachoviatt.cheshire.sch.uk
SUMMARY:Move up day and intake day at Bishop Heber
DESCRIPTION:
URL:https://www.shocklachoviatt.cheshire.sch.uk/event/move-up-day-and-intake-day-at-bishop-heber/
END:VEVENT
BEGIN:VEVENT
DTSTART;VALUE=DATE:20250711
DTEND;VALUE=DATE:20250712
DTSTAMP:20260423T081551
CREATED:20240904T104049Z
LAST-MODIFIED:20240904T104049Z
UID:5688-1752192000-1752278399@www.shocklachoviatt.cheshire.sch.uk
SUMMARY:Y5 Computing/Maths Curriculum day at Farndon
DESCRIPTION:
URL:https://www.shocklachoviatt.cheshire.sch.uk/event/y5-computing-maths-curriculum-day-at-farndon/
END:VEVENT
BEGIN:VEVENT
DTSTART;TZID=UTC:20250710T080000
DTEND;TZID=UTC:20250710T170000
DTSTAMP:20260423T081551
CREATED:20250430T134552Z
LAST-MODIFIED:20250430T134552Z
UID:6180-1752134400-1752166800@www.shocklachoviatt.cheshire.sch.uk
SUMMARY:Foxes forest school
DESCRIPTION:
URL:https://www.shocklachoviatt.cheshire.sch.uk/event/foxes-forest-school-7/
END:VEVENT
BEGIN:VEVENT
DTSTART;VALUE=DATE:20250710
DTEND;VALUE=DATE:20250711
DTSTAMP:20260423T081551
CREATED:20250623T094502Z
LAST-MODIFIED:20250623T094502Z
UID:6229-1752105600-1752191999@www.shocklachoviatt.cheshire.sch.uk
SUMMARY:Break the rules day!!!
DESCRIPTION:£1 per rule broken\, please pay on ParentPay
URL:https://www.shocklachoviatt.cheshire.sch.uk/event/break-the-rules-day/
END:VEVENT
BEGIN:VEVENT
DTSTART;TZID=UTC:20250709T153000
DTEND;TZID=UTC:20250709T190000
DTSTAMP:20260423T081551
CREATED:20240904T103840Z
LAST-MODIFIED:20240904T103840Z
UID:5684-1752075000-1752087600@www.shocklachoviatt.cheshire.sch.uk
SUMMARY:Heber Arts Celebration Evening at Bishop Heber
DESCRIPTION:
URL:https://www.shocklachoviatt.cheshire.sch.uk/event/heber-arts-celebration-evening-at-bishop-heber/
END:VEVENT
BEGIN:VEVENT
DTSTART;TZID=UTC:20250709T103000
DTEND;TZID=UTC:20250709T113000
DTSTAMP:20260423T081551
CREATED:20250325T133343Z
LAST-MODIFIED:20250325T133345Z
UID:6140-1752057000-1752060600@www.shocklachoviatt.cheshire.sch.uk
SUMMARY:Year 6 pupils to our Primary Leavers Service
DESCRIPTION:Year 6 Primary leavers service @ Chester Cathedral
URL:https://www.shocklachoviatt.cheshire.sch.uk/event/year-6-pupils-to-our-primary-leavers-service/
LOCATION:Chester Cathedral\, Chester
END:VEVENT
BEGIN:VEVENT
DTSTART;TZID=UTC:20250708T180000
DTEND;TZID=UTC:20250708T200000
DTSTAMP:20260423T081551
CREATED:20250604T090539Z
LAST-MODIFIED:20250604T090539Z
UID:6216-1751997600-1752004800@www.shocklachoviatt.cheshire.sch.uk
SUMMARY:End of year show - Heber High
DESCRIPTION:
URL:https://www.shocklachoviatt.cheshire.sch.uk/event/end-of-year-show-heber-high/
END:VEVENT
BEGIN:VEVENT
DTSTART;VALUE=DATE:20250707
DTEND;VALUE=DATE:20250708
DTSTAMP:20260423T081551
CREATED:20250609T104831Z
LAST-MODIFIED:20250609T104831Z
UID:6222-1751846400-1751932799@www.shocklachoviatt.cheshire.sch.uk
SUMMARY:End of year show rehearsal at Heber - parents to drop off
DESCRIPTION:
URL:https://www.shocklachoviatt.cheshire.sch.uk/event/end-of-year-show-rehearsal-at-heber-parents-to-drop-off/
END:VEVENT
BEGIN:VEVENT
DTSTART;VALUE=DATE:20250704
DTEND;VALUE=DATE:20250705
DTSTAMP:20260423T081551
CREATED:20240904T103934Z
LAST-MODIFIED:20250623T095016Z
UID:5686-1751587200-1751673599@www.shocklachoviatt.cheshire.sch.uk
SUMMARY:Music celebration worship 9:30am & 2:30pm
DESCRIPTION:
URL:https://www.shocklachoviatt.cheshire.sch.uk/event/music-celebration-worship/
END:VEVENT
END:VCALENDAR