BEGIN:VCALENDAR
VERSION:2.0
PRODID:-//Shocklach Oviatt Primary School - ECPv6.15.11//NONSGML v1.0//EN
CALSCALE:GREGORIAN
METHOD:PUBLISH
X-WR-CALNAME:Shocklach Oviatt Primary School
X-ORIGINAL-URL:https://www.shocklachoviatt.cheshire.sch.uk
X-WR-CALDESC:Events for Shocklach Oviatt Primary School
REFRESH-INTERVAL;VALUE=DURATION:PT1H
X-Robots-Tag:noindex
X-PUBLISHED-TTL:PT1H
BEGIN:VTIMEZONE
TZID:UTC
BEGIN:STANDARD
TZOFFSETFROM:+0000
TZOFFSETTO:+0000
TZNAME:UTC
DTSTART:20240101T000000
END:STANDARD
END:VTIMEZONE
BEGIN:VEVENT
DTSTART;TZID=UTC:20251212T160000
DTEND;TZID=UTC:20251212T180000
DTSTAMP:20260423T030931
CREATED:20251110T144125Z
LAST-MODIFIED:20251203T132752Z
UID:6558-1765555200-1765562400@www.shocklachoviatt.cheshire.sch.uk
SUMMARY:Carols in the forest
DESCRIPTION:
URL:https://www.shocklachoviatt.cheshire.sch.uk/event/carols-in-the-forest/
END:VEVENT
BEGIN:VEVENT
DTSTART;TZID=UTC:20251212T123000
DTEND;TZID=UTC:20251212T143000
DTSTAMP:20260423T030931
CREATED:20251125T112247Z
LAST-MODIFIED:20251203T132612Z
UID:6589-1765542600-1765549800@www.shocklachoviatt.cheshire.sch.uk
SUMMARY:Christmas carolling @ Prospect house in Malpas
DESCRIPTION:
URL:https://www.shocklachoviatt.cheshire.sch.uk/event/squirrels-christmas-carols-prospect-house-in-malpas/
END:VEVENT
BEGIN:VEVENT
DTSTART;TZID=UTC:20251211T080000
DTEND;TZID=UTC:20251211T170000
DTSTAMP:20260423T030931
CREATED:20250922T100616Z
LAST-MODIFIED:20250922T100616Z
UID:6346-1765440000-1765472400@www.shocklachoviatt.cheshire.sch.uk
SUMMARY:Sports Hall athletics @ Heber (Yrs 5/6)
DESCRIPTION:
URL:https://www.shocklachoviatt.cheshire.sch.uk/event/sports-hall-athletics-heber-yrs-5-6/
END:VEVENT
BEGIN:VEVENT
DTSTART;VALUE=DATE:20251211
DTEND;VALUE=DATE:20251212
DTSTAMP:20260423T030931
CREATED:20251208T145156Z
LAST-MODIFIED:20251208T145156Z
UID:6630-1765411200-1765497599@www.shocklachoviatt.cheshire.sch.uk
SUMMARY:Christmas Jumper day
DESCRIPTION:
URL:https://www.shocklachoviatt.cheshire.sch.uk/event/christmas-jumper-day/
END:VEVENT
BEGIN:VEVENT
DTSTART;VALUE=DATE:20251211
DTEND;VALUE=DATE:20251212
DTSTAMP:20260423T030931
CREATED:20251105T155353Z
LAST-MODIFIED:20251105T155353Z
UID:6535-1765411200-1765497599@www.shocklachoviatt.cheshire.sch.uk
SUMMARY:KS1 Nativity 5pm
DESCRIPTION:
URL:https://www.shocklachoviatt.cheshire.sch.uk/event/ks1-nativity-5pm/
END:VEVENT
BEGIN:VEVENT
DTSTART;VALUE=DATE:20251210
DTEND;VALUE=DATE:20251211
DTSTAMP:20260423T030931
CREATED:20251105T155325Z
LAST-MODIFIED:20251105T155325Z
UID:6533-1765324800-1765411199@www.shocklachoviatt.cheshire.sch.uk
SUMMARY:KS1 Nativity 2pm
DESCRIPTION:
URL:https://www.shocklachoviatt.cheshire.sch.uk/event/ks1-nativity-2pm/
END:VEVENT
BEGIN:VEVENT
DTSTART;VALUE=DATE:20251209
DTEND;VALUE=DATE:20251210
DTSTAMP:20260423T030931
CREATED:20251008T134011Z
LAST-MODIFIED:20251008T134011Z
UID:6504-1765238400-1765324799@www.shocklachoviatt.cheshire.sch.uk
SUMMARY:Foxes Forest School
DESCRIPTION:Foxes Forest School
URL:https://www.shocklachoviatt.cheshire.sch.uk/event/foxes-forest-school-9/
END:VEVENT
BEGIN:VEVENT
DTSTART;VALUE=DATE:20251206
DTEND;VALUE=DATE:20251207
DTSTAMP:20260423T030931
CREATED:20251105T155228Z
LAST-MODIFIED:20251105T155228Z
UID:6530-1764979200-1765065599@www.shocklachoviatt.cheshire.sch.uk
SUMMARY:Christmas auction bidding live!!
DESCRIPTION:
URL:https://www.shocklachoviatt.cheshire.sch.uk/event/christmas-auction-bidding-live/
END:VEVENT
BEGIN:VEVENT
DTSTART;TZID=UTC:20251205T093000
DTEND;TZID=UTC:20251205T103000
DTSTAMP:20260423T030931
CREATED:20251111T101829Z
LAST-MODIFIED:20251204T110305Z
UID:6567-1764927000-1764930600@www.shocklachoviatt.cheshire.sch.uk
SUMMARY:Santa is paying a visit to school!!
DESCRIPTION:Santa is visiting\, children can wear Christmas jumpers over their uniform.
URL:https://www.shocklachoviatt.cheshire.sch.uk/event/santa-is-paying-a-visit-to-school/
END:VEVENT
BEGIN:VEVENT
DTSTART;TZID=UTC:20251204T153000
DTEND;TZID=UTC:20251204T170000
DTSTAMP:20260423T030931
CREATED:20251111T101750Z
LAST-MODIFIED:20251111T101750Z
UID:6565-1764862200-1764867600@www.shocklachoviatt.cheshire.sch.uk
SUMMARY:Christmas Fayre
DESCRIPTION:
URL:https://www.shocklachoviatt.cheshire.sch.uk/event/christmas-fayre-2/
END:VEVENT
BEGIN:VEVENT
DTSTART;VALUE=DATE:20251204
DTEND;VALUE=DATE:20251205
DTSTAMP:20260423T030931
CREATED:20251114T100205Z
LAST-MODIFIED:20251114T100205Z
UID:6569-1764806400-1764892799@www.shocklachoviatt.cheshire.sch.uk
SUMMARY:Squirrels fancy dress reward day!!
DESCRIPTION:
URL:https://www.shocklachoviatt.cheshire.sch.uk/event/squirrels-fancy-dress-reward-day/
END:VEVENT
BEGIN:VEVENT
DTSTART;VALUE=DATE:20251202
DTEND;VALUE=DATE:20251203
DTSTAMP:20260423T030931
CREATED:20251008T134205Z
LAST-MODIFIED:20251008T134205Z
UID:6512-1764633600-1764719999@www.shocklachoviatt.cheshire.sch.uk
SUMMARY:Badgers Forest School
DESCRIPTION:
URL:https://www.shocklachoviatt.cheshire.sch.uk/event/badgers-forest-school-4/
END:VEVENT
BEGIN:VEVENT
DTSTART;VALUE=DATE:20251201
DTEND;VALUE=DATE:20251202
DTSTAMP:20260423T030931
CREATED:20251105T155156Z
LAST-MODIFIED:20251105T155156Z
UID:6528-1764547200-1764633599@www.shocklachoviatt.cheshire.sch.uk
SUMMARY:Online Christmas Auction open for viewing
DESCRIPTION:
URL:https://www.shocklachoviatt.cheshire.sch.uk/event/online-christmas-auction-open-for-viewing/
END:VEVENT
BEGIN:VEVENT
DTSTART;VALUE=DATE:20251128
DTEND;VALUE=DATE:20251129
DTSTAMP:20260423T030931
CREATED:20251006T102051Z
LAST-MODIFIED:20251006T102051Z
UID:6478-1764288000-1764374399@www.shocklachoviatt.cheshire.sch.uk
SUMMARY:The Money Charity workshop- Badgers
DESCRIPTION:
URL:https://www.shocklachoviatt.cheshire.sch.uk/event/the-money-charity-workshop-badgers/
END:VEVENT
BEGIN:VEVENT
DTSTART;VALUE=DATE:20251126
DTEND;VALUE=DATE:20251127
DTSTAMP:20260423T030931
CREATED:20251120T111936Z
LAST-MODIFIED:20251120T151413Z
UID:6585-1764115200-1764201599@www.shocklachoviatt.cheshire.sch.uk
SUMMARY:Badgers wheels day
DESCRIPTION:Bring in an item with wheels – please ensure you have a helmet!
URL:https://www.shocklachoviatt.cheshire.sch.uk/event/badgers-wheels-day/
END:VEVENT
BEGIN:VEVENT
DTSTART;VALUE=DATE:20251125
DTEND;VALUE=DATE:20251126
DTSTAMP:20260423T030931
CREATED:20251008T134108Z
LAST-MODIFIED:20251008T134108Z
UID:6508-1764028800-1764115199@www.shocklachoviatt.cheshire.sch.uk
SUMMARY:Squirrels Forest School
DESCRIPTION:
URL:https://www.shocklachoviatt.cheshire.sch.uk/event/squirrels-forest-school-2/
END:VEVENT
BEGIN:VEVENT
DTSTART;TZID=UTC:20251120T080000
DTEND;TZID=UTC:20251120T170000
DTSTAMP:20260423T030931
CREATED:20250922T100521Z
LAST-MODIFIED:20250922T100536Z
UID:6343-1763625600-1763658000@www.shocklachoviatt.cheshire.sch.uk
SUMMARY:Sports Hall athletics @ Heber (Years 3/4)
DESCRIPTION:
URL:https://www.shocklachoviatt.cheshire.sch.uk/event/sports-hall-athletics-heber/
END:VEVENT
BEGIN:VEVENT
DTSTART;VALUE=DATE:20251119
DTEND;VALUE=DATE:20251120
DTSTAMP:20260423T030931
CREATED:20251111T101104Z
LAST-MODIFIED:20251111T101104Z
UID:6561-1763510400-1763596799@www.shocklachoviatt.cheshire.sch.uk
SUMMARY:Performing Arts & Confidence Workshop
DESCRIPTION:
URL:https://www.shocklachoviatt.cheshire.sch.uk/event/performing-arts-confidence-workshop/
END:VEVENT
BEGIN:VEVENT
DTSTART;VALUE=DATE:20251118
DTEND;VALUE=DATE:20251119
DTSTAMP:20260423T030931
CREATED:20251008T133937Z
LAST-MODIFIED:20251008T133937Z
UID:6502-1763424000-1763510399@www.shocklachoviatt.cheshire.sch.uk
SUMMARY:Foxes Forest school
DESCRIPTION:
URL:https://www.shocklachoviatt.cheshire.sch.uk/event/foxes-forest-school-8/
END:VEVENT
BEGIN:VEVENT
DTSTART;VALUE=DATE:20251114
DTEND;VALUE=DATE:20251115
DTSTAMP:20260423T030931
CREATED:20251105T150958Z
LAST-MODIFIED:20251110T144337Z
UID:6526-1763078400-1763164799@www.shocklachoviatt.cheshire.sch.uk
SUMMARY:Children in Need - Wear PJ's or Branded merchandise
DESCRIPTION:
URL:https://www.shocklachoviatt.cheshire.sch.uk/event/children-in-need/
END:VEVENT
BEGIN:VEVENT
DTSTART;TZID=UTC:20251113T113000
DTEND;TZID=UTC:20251113T153000
DTSTAMP:20260423T030931
CREATED:20250923T094855Z
LAST-MODIFIED:20250923T094855Z
UID:6442-1763033400-1763047800@www.shocklachoviatt.cheshire.sch.uk
SUMMARY:Crucial Crew (year 6's)
DESCRIPTION:Fox Barracks\, Chester
URL:https://www.shocklachoviatt.cheshire.sch.uk/event/crucial-crew-year-6s/
END:VEVENT
BEGIN:VEVENT
DTSTART;TZID=UTC:20251112T090000
DTEND;TZID=UTC:20251112T110000
DTSTAMP:20260423T030931
CREATED:20251111T101214Z
LAST-MODIFIED:20251111T101214Z
UID:6563-1762938000-1762945200@www.shocklachoviatt.cheshire.sch.uk
SUMMARY:Gripping Yarns anti bullying play 9am
DESCRIPTION:
URL:https://www.shocklachoviatt.cheshire.sch.uk/event/gripping-yarns-anti-bullying-play-9am/
END:VEVENT
BEGIN:VEVENT
DTSTART;VALUE=DATE:20251111
DTEND;VALUE=DATE:20251112
DTSTAMP:20260423T030931
CREATED:20251008T134136Z
LAST-MODIFIED:20251008T134136Z
UID:6510-1762819200-1762905599@www.shocklachoviatt.cheshire.sch.uk
SUMMARY:Badgers Forest School
DESCRIPTION:
URL:https://www.shocklachoviatt.cheshire.sch.uk/event/badgers-forest-school-3/
END:VEVENT
BEGIN:VEVENT
DTSTART;VALUE=DATE:20251110
DTEND;VALUE=DATE:20251111
DTSTAMP:20260423T030931
CREATED:20250918T105249Z
LAST-MODIFIED:20250918T150540Z
UID:6334-1762732800-1762819199@www.shocklachoviatt.cheshire.sch.uk
SUMMARY:Flu vaccinations in school
DESCRIPTION:
URL:https://www.shocklachoviatt.cheshire.sch.uk/event/flu-vaccinations-in-school/
END:VEVENT
BEGIN:VEVENT
DTSTART;VALUE=DATE:20251104
DTEND;VALUE=DATE:20251105
DTSTAMP:20260423T030931
CREATED:20251008T134046Z
LAST-MODIFIED:20251008T134046Z
UID:6506-1762214400-1762300799@www.shocklachoviatt.cheshire.sch.uk
SUMMARY:Squirrels Forest School
DESCRIPTION:
URL:https://www.shocklachoviatt.cheshire.sch.uk/event/squirrels-forest-school/
END:VEVENT
BEGIN:VEVENT
DTSTART;VALUE=DATE:20251031
DTEND;VALUE=DATE:20251101
DTSTAMP:20260423T030931
CREATED:20250922T101229Z
LAST-MODIFIED:20250922T101229Z
UID:6358-1761868800-1761955199@www.shocklachoviatt.cheshire.sch.uk
SUMMARY:Closing date for admissions for current year 6 pupils to apply for secondary school
DESCRIPTION:
URL:https://www.shocklachoviatt.cheshire.sch.uk/event/closing-date-for-admissions-for-current-year-6-pupils-to-apply-for-secondary-school/
END:VEVENT
BEGIN:VEVENT
DTSTART;VALUE=DATE:20251027
DTEND;VALUE=DATE:20251101
DTSTAMP:20260423T030931
CREATED:20250715T145054Z
LAST-MODIFIED:20250715T145056Z
UID:6244-1761523200-1761955199@www.shocklachoviatt.cheshire.sch.uk
SUMMARY:Half Term
DESCRIPTION:
URL:https://www.shocklachoviatt.cheshire.sch.uk/event/half-term/
END:VEVENT
BEGIN:VEVENT
DTSTART;TZID=UTC:20251023T153000
DTEND;TZID=UTC:20251023T163000
DTSTAMP:20260423T030931
CREATED:20250904T111314Z
LAST-MODIFIED:20250923T092944Z
UID:6283-1761233400-1761237000@www.shocklachoviatt.cheshire.sch.uk
SUMMARY:Messy Church
DESCRIPTION:
URL:https://www.shocklachoviatt.cheshire.sch.uk/event/messy-church-4/
END:VEVENT
BEGIN:VEVENT
DTSTART;VALUE=DATE:20251022
DTEND;VALUE=DATE:20251023
DTSTAMP:20260423T030931
CREATED:20250922T101109Z
LAST-MODIFIED:20250922T101109Z
UID:6355-1761091200-1761177599@www.shocklachoviatt.cheshire.sch.uk
SUMMARY:Parents Evening
DESCRIPTION:
URL:https://www.shocklachoviatt.cheshire.sch.uk/event/parents-evening-6/
END:VEVENT
BEGIN:VEVENT
DTSTART;VALUE=DATE:20251021
DTEND;VALUE=DATE:20251022
DTSTAMP:20260423T030931
CREATED:20250904T111514Z
LAST-MODIFIED:20250904T111514Z
UID:6289-1761004800-1761091199@www.shocklachoviatt.cheshire.sch.uk
SUMMARY:Forest School - Foxes
DESCRIPTION:
URL:https://www.shocklachoviatt.cheshire.sch.uk/event/forest-school-foxes-10/
END:VEVENT
END:VCALENDAR