BEGIN:VCALENDAR
VERSION:2.0
PRODID:-//Shocklach Oviatt Primary School - ECPv6.15.11//NONSGML v1.0//EN
CALSCALE:GREGORIAN
METHOD:PUBLISH
X-WR-CALNAME:Shocklach Oviatt Primary School
X-ORIGINAL-URL:https://www.shocklachoviatt.cheshire.sch.uk
X-WR-CALDESC:Events for Shocklach Oviatt Primary School
REFRESH-INTERVAL;VALUE=DURATION:PT1H
X-Robots-Tag:noindex
X-PUBLISHED-TTL:PT1H
BEGIN:VTIMEZONE
TZID:UTC
BEGIN:STANDARD
TZOFFSETFROM:+0000
TZOFFSETTO:+0000
TZNAME:UTC
DTSTART:20240101T000000
END:STANDARD
END:VTIMEZONE
BEGIN:VEVENT
DTSTART;VALUE=DATE:20250605
DTEND;VALUE=DATE:20250606
DTSTAMP:20260425T163438
CREATED:20250430T132953Z
LAST-MODIFIED:20250430T134420Z
UID:6166-1749081600-1749167999@www.shocklachoviatt.cheshire.sch.uk
SUMMARY:Badgers forest school
DESCRIPTION:
URL:https://www.shocklachoviatt.cheshire.sch.uk/event/foxes-forest-school-3/
END:VEVENT
BEGIN:VEVENT
DTSTART;TZID=UTC:20250603T084500
DTEND;TZID=UTC:20250603T151500
DTSTAMP:20260425T163438
CREATED:20240904T103601Z
LAST-MODIFIED:20240904T103601Z
UID:5680-1748940300-1748963700@www.shocklachoviatt.cheshire.sch.uk
SUMMARY:Term starts
DESCRIPTION:
URL:https://www.shocklachoviatt.cheshire.sch.uk/event/term-starts-6/
END:VEVENT
BEGIN:VEVENT
DTSTART;VALUE=DATE:20250603
DTEND;VALUE=DATE:20250604
DTSTAMP:20260425T163438
CREATED:20250206T143435Z
LAST-MODIFIED:20250206T143435Z
UID:6096-1748908800-1748995199@www.shocklachoviatt.cheshire.sch.uk
SUMMARY:Squirrels swimming lesson
DESCRIPTION:
URL:https://www.shocklachoviatt.cheshire.sch.uk/event/squirrels-swimming-lesson-5/
END:VEVENT
BEGIN:VEVENT
DTSTART;TZID=UTC:20250523T151500
DTEND;TZID=UTC:20250523T170000
DTSTAMP:20260425T163438
CREATED:20240904T103518Z
LAST-MODIFIED:20240904T103518Z
UID:5678-1748013300-1748019600@www.shocklachoviatt.cheshire.sch.uk
SUMMARY:Term ends
DESCRIPTION:
URL:https://www.shocklachoviatt.cheshire.sch.uk/event/term-ends-2/
END:VEVENT
BEGIN:VEVENT
DTSTART;TZID=UTC:20250522T080000
DTEND;TZID=UTC:20250522T170000
DTSTAMP:20260425T163438
CREATED:20250430T134026Z
LAST-MODIFIED:20250430T134026Z
UID:6173-1747900800-1747933200@www.shocklachoviatt.cheshire.sch.uk
SUMMARY:Foxes forest school
DESCRIPTION:
URL:https://www.shocklachoviatt.cheshire.sch.uk/event/foxes-forest-school/
END:VEVENT
BEGIN:VEVENT
DTSTART;TZID=UTC:20250521T130000
DTEND;TZID=UTC:20250521T153000
DTSTAMP:20260425T163438
CREATED:20240904T103411Z
LAST-MODIFIED:20250513T135150Z
UID:5676-1747832400-1747841400@www.shocklachoviatt.cheshire.sch.uk
SUMMARY:Sports day (1:30pm) & after party (until 6pm)
DESCRIPTION:
URL:https://www.shocklachoviatt.cheshire.sch.uk/event/sports-day-reserve-day-4-june/
END:VEVENT
BEGIN:VEVENT
DTSTART;VALUE=DATE:20250520
DTEND;VALUE=DATE:20250521
DTSTAMP:20260425T163438
CREATED:20250206T143412Z
LAST-MODIFIED:20250206T143412Z
UID:6094-1747699200-1747785599@www.shocklachoviatt.cheshire.sch.uk
SUMMARY:Squirrels swimming lesson
DESCRIPTION:
URL:https://www.shocklachoviatt.cheshire.sch.uk/event/squirrels-swimming-lesson-4/
END:VEVENT
BEGIN:VEVENT
DTSTART;VALUE=DATE:20250517
DTEND;VALUE=DATE:20250518
DTSTAMP:20260425T163438
CREATED:20250121T102957Z
LAST-MODIFIED:20250121T102957Z
UID:6007-1747440000-1747526399@www.shocklachoviatt.cheshire.sch.uk
SUMMARY:Knolton Hall open gardens
DESCRIPTION:
URL:https://www.shocklachoviatt.cheshire.sch.uk/event/knolton-hall-open-gardens/
END:VEVENT
BEGIN:VEVENT
DTSTART;TZID=UTC:20250515T160000
DTEND;TZID=UTC:20250515T173000
DTSTAMP:20260425T163438
CREATED:20240904T102519Z
LAST-MODIFIED:20240904T102519Z
UID:5660-1747324800-1747330200@www.shocklachoviatt.cheshire.sch.uk
SUMMARY:Year 3/4 football at Bishop Heber
DESCRIPTION:
URL:https://www.shocklachoviatt.cheshire.sch.uk/event/year-3-4-football-at-bishop-heber/
END:VEVENT
BEGIN:VEVENT
DTSTART;TZID=UTC:20250515T133000
DTEND;TZID=UTC:20250515T150000
DTSTAMP:20260425T163438
CREATED:20240904T102431Z
LAST-MODIFIED:20240904T102431Z
UID:5658-1747315800-1747321200@www.shocklachoviatt.cheshire.sch.uk
SUMMARY:Year 1/2 football at Bishop Heber
DESCRIPTION:
URL:https://www.shocklachoviatt.cheshire.sch.uk/event/year-1-2-football-at-bishop-heber/
END:VEVENT
BEGIN:VEVENT
DTSTART;VALUE=DATE:20250515
DTEND;VALUE=DATE:20250516
DTSTAMP:20260425T163438
CREATED:20250430T132858Z
LAST-MODIFIED:20250430T132858Z
UID:6163-1747267200-1747353599@www.shocklachoviatt.cheshire.sch.uk
SUMMARY:Badgers forest school - Afternoon
DESCRIPTION:
URL:https://www.shocklachoviatt.cheshire.sch.uk/event/badgers-forest-school-afternoon/
END:VEVENT
BEGIN:VEVENT
DTSTART;VALUE=DATE:20250513
DTEND;VALUE=DATE:20250514
DTSTAMP:20260425T163438
CREATED:20250206T143354Z
LAST-MODIFIED:20250206T143354Z
UID:6092-1747094400-1747180799@www.shocklachoviatt.cheshire.sch.uk
SUMMARY:Squirrels swimming lesson
DESCRIPTION:
URL:https://www.shocklachoviatt.cheshire.sch.uk/event/squirrels-swimming-lesson-3/
END:VEVENT
BEGIN:VEVENT
DTSTART;VALUE=DATE:20250512
DTEND;VALUE=DATE:20250516
DTSTAMP:20260425T163438
CREATED:20240904T103200Z
LAST-MODIFIED:20240904T103200Z
UID:5672-1747008000-1747353599@www.shocklachoviatt.cheshire.sch.uk
SUMMARY:SATS Week
DESCRIPTION:
URL:https://www.shocklachoviatt.cheshire.sch.uk/event/sats-week/
END:VEVENT
BEGIN:VEVENT
DTSTART;TZID=UTC:20250511T111500
DTEND;TZID=UTC:20250511T123000
DTSTAMP:20260425T163438
CREATED:20240904T103307Z
LAST-MODIFIED:20240904T103307Z
UID:5674-1746962100-1746966600@www.shocklachoviatt.cheshire.sch.uk
SUMMARY:Pet blessing at St Edith's (Tom's field)
DESCRIPTION:
URL:https://www.shocklachoviatt.cheshire.sch.uk/event/pet-blessing-at-st-ediths-toms-field/
END:VEVENT
BEGIN:VEVENT
DTSTART;VALUE=DATE:20250508
DTEND;VALUE=DATE:20250509
DTSTAMP:20260425T163438
CREATED:20250430T132814Z
LAST-MODIFIED:20250430T132814Z
UID:6161-1746662400-1746748799@www.shocklachoviatt.cheshire.sch.uk
SUMMARY:Foxes Forest school
DESCRIPTION:
URL:https://www.shocklachoviatt.cheshire.sch.uk/event/foxes-forest-school-2/
END:VEVENT
BEGIN:VEVENT
DTSTART;VALUE=DATE:20250506
DTEND;VALUE=DATE:20250507
DTSTAMP:20260425T163438
CREATED:20250206T143322Z
LAST-MODIFIED:20250206T143322Z
UID:6090-1746489600-1746575999@www.shocklachoviatt.cheshire.sch.uk
SUMMARY:Squirrels swimming lesson
DESCRIPTION:
URL:https://www.shocklachoviatt.cheshire.sch.uk/event/squirrels-swimming-lesson-2/
END:VEVENT
BEGIN:VEVENT
DTSTART;VALUE=DATE:20250506
DTEND;VALUE=DATE:20250507
DTSTAMP:20260425T163438
CREATED:20240904T103046Z
LAST-MODIFIED:20240904T103046Z
UID:5668-1746489600-1746575999@www.shocklachoviatt.cheshire.sch.uk
SUMMARY:Tempest - individual and class photos
DESCRIPTION:
URL:https://www.shocklachoviatt.cheshire.sch.uk/event/tempest-individual-and-class-photos/
END:VEVENT
BEGIN:VEVENT
DTSTART;VALUE=DATE:20250505
DTEND;VALUE=DATE:20250506
DTSTAMP:20260425T163438
CREATED:20240904T103118Z
LAST-MODIFIED:20240904T103118Z
UID:5670-1746403200-1746489599@www.shocklachoviatt.cheshire.sch.uk
SUMMARY:Bank holiday
DESCRIPTION:
URL:https://www.shocklachoviatt.cheshire.sch.uk/event/bank-holiday/
END:VEVENT
BEGIN:VEVENT
DTSTART;VALUE=DATE:20250501
DTEND;VALUE=DATE:20250502
DTSTAMP:20260425T163438
CREATED:20250430T105634Z
LAST-MODIFIED:20250430T105634Z
UID:6156-1746057600-1746143999@www.shocklachoviatt.cheshire.sch.uk
SUMMARY:Badgers forest school
DESCRIPTION:
URL:https://www.shocklachoviatt.cheshire.sch.uk/event/badgers-forest-school/
END:VEVENT
BEGIN:VEVENT
DTSTART;VALUE=DATE:20250429
DTEND;VALUE=DATE:20250430
DTSTAMP:20260425T163438
CREATED:20250206T143237Z
LAST-MODIFIED:20250206T143237Z
UID:6088-1745884800-1745971199@www.shocklachoviatt.cheshire.sch.uk
SUMMARY:Squirrels swimming lesson
DESCRIPTION:
URL:https://www.shocklachoviatt.cheshire.sch.uk/event/squirrels-swimming-lesson/
END:VEVENT
BEGIN:VEVENT
DTSTART;VALUE=DATE:20250428
DTEND;VALUE=DATE:20250501
DTSTAMP:20260425T163438
CREATED:20250321T091410Z
LAST-MODIFIED:20250321T091410Z
UID:6135-1745798400-1746057599@www.shocklachoviatt.cheshire.sch.uk
SUMMARY:BADGERS RESIDENTIAL
DESCRIPTION:
URL:https://www.shocklachoviatt.cheshire.sch.uk/event/badgers-residential/
END:VEVENT
BEGIN:VEVENT
DTSTART;TZID=UTC:20250424T151500
DTEND;TZID=UTC:20250424T173000
DTSTAMP:20260425T163438
CREATED:20240904T102337Z
LAST-MODIFIED:20240904T102337Z
UID:5656-1745507700-1745515800@www.shocklachoviatt.cheshire.sch.uk
SUMMARY:Year 5/6 football at Bishop Heber
DESCRIPTION:
URL:https://www.shocklachoviatt.cheshire.sch.uk/event/year-5-6-football-at-bishop-heber/
END:VEVENT
BEGIN:VEVENT
DTSTART;TZID=UTC:20250423T110000
DTEND;TZID=UTC:20250423T120000
DTSTAMP:20260425T163438
CREATED:20250306T154618Z
LAST-MODIFIED:20250310T095754Z
UID:6125-1745406000-1745409600@www.shocklachoviatt.cheshire.sch.uk
SUMMARY:The Snap Trap - on line safety event (Badgers)
DESCRIPTION:
URL:https://www.shocklachoviatt.cheshire.sch.uk/event/the-snap-trap-on-line-safety-event-badgers/
END:VEVENT
BEGIN:VEVENT
DTSTART;TZID=UTC:20250422T084500
DTEND;TZID=UTC:20250422T151500
DTSTAMP:20260425T163438
CREATED:20240904T083052Z
LAST-MODIFIED:20240904T083052Z
UID:5558-1745311500-1745334900@www.shocklachoviatt.cheshire.sch.uk
SUMMARY:Term starts
DESCRIPTION:
URL:https://www.shocklachoviatt.cheshire.sch.uk/event/term-starts-3/
END:VEVENT
BEGIN:VEVENT
DTSTART;TZID=UTC:20250404T151500
DTEND;TZID=UTC:20250404T170000
DTSTAMP:20260425T163438
CREATED:20240904T082956Z
LAST-MODIFIED:20240904T082956Z
UID:5556-1743779700-1743786000@www.shocklachoviatt.cheshire.sch.uk
SUMMARY:Term finishes for Easter (after Church)
DESCRIPTION:
URL:https://www.shocklachoviatt.cheshire.sch.uk/event/term-finishes-for-easter-after-church/
END:VEVENT
BEGIN:VEVENT
DTSTART;VALUE=DATE:20250404
DTEND;VALUE=DATE:20250405
DTSTAMP:20260425T163438
CREATED:20240904T102206Z
LAST-MODIFIED:20240904T102206Z
UID:5654-1743724800-1743811199@www.shocklachoviatt.cheshire.sch.uk
SUMMARY:Easter service at St Edith's - KS1 9am - KS2 1.30pm
DESCRIPTION:
URL:https://www.shocklachoviatt.cheshire.sch.uk/event/easter-service-at-st-ediths-ks1-9am-ks2-1-30pm/
END:VEVENT
BEGIN:VEVENT
DTSTART;TZID=UTC:20250403T152000
DTEND;TZID=UTC:20250403T162000
DTSTAMP:20260425T163438
CREATED:20250206T143108Z
LAST-MODIFIED:20250206T143108Z
UID:6084-1743693600-1743697200@www.shocklachoviatt.cheshire.sch.uk
SUMMARY:Messy Church
DESCRIPTION:
URL:https://www.shocklachoviatt.cheshire.sch.uk/event/messy-church-2/
END:VEVENT
BEGIN:VEVENT
DTSTART;TZID=UTC:20250403T080000
DTEND;TZID=UTC:20250403T120000
DTSTAMP:20260425T163438
CREATED:20250320T165412Z
LAST-MODIFIED:20250320T165412Z
UID:6133-1743667200-1743681600@www.shocklachoviatt.cheshire.sch.uk
SUMMARY:Forest School (Extra session) Foxes
DESCRIPTION:
URL:https://www.shocklachoviatt.cheshire.sch.uk/event/forest-school-extra-session-foxes/
END:VEVENT
BEGIN:VEVENT
DTSTART;VALUE=DATE:20250402
DTEND;VALUE=DATE:20250403
DTSTAMP:20260425T163438
CREATED:20250325T115242Z
LAST-MODIFIED:20250325T120106Z
UID:6137-1743552000-1743638399@www.shocklachoviatt.cheshire.sch.uk
SUMMARY:Easter special menu
DESCRIPTION:  \nHot glazed gammon served in a bun (vegan choice available) \n  \nserved with \n  \nCrispy sautéed potatoes \nBatton carrots & broccoli \n  \nor \n  \nBaked jacket potato served with cheese &/or beans \n  \nFor Pudding \n  \nFresh fruit \nor \nChocolate crispy nests
URL:https://www.shocklachoviatt.cheshire.sch.uk/event/easter-special-menu/
END:VEVENT
BEGIN:VEVENT
DTSTART;VALUE=DATE:20250401
DTEND;VALUE=DATE:20250404
DTSTAMP:20260425T163438
CREATED:20250306T115020Z
LAST-MODIFIED:20250307T141918Z
UID:6123-1743465600-1743724799@www.shocklachoviatt.cheshire.sch.uk
SUMMARY:BikeRight! Cycling lessons Year 5
DESCRIPTION:
URL:https://www.shocklachoviatt.cheshire.sch.uk/event/bikeright-cycling-lessons-year-5/
END:VEVENT
END:VCALENDAR