BEGIN:VCALENDAR
VERSION:2.0
PRODID:-//Shocklach Oviatt Primary School - ECPv6.15.11//NONSGML v1.0//EN
CALSCALE:GREGORIAN
METHOD:PUBLISH
X-WR-CALNAME:Shocklach Oviatt Primary School
X-ORIGINAL-URL:https://www.shocklachoviatt.cheshire.sch.uk
X-WR-CALDESC:Events for Shocklach Oviatt Primary School
REFRESH-INTERVAL;VALUE=DURATION:PT1H
X-Robots-Tag:noindex
X-PUBLISHED-TTL:PT1H
BEGIN:VTIMEZONE
TZID:UTC
BEGIN:STANDARD
TZOFFSETFROM:+0000
TZOFFSETTO:+0000
TZNAME:UTC
DTSTART:20250101T000000
END:STANDARD
END:VTIMEZONE
BEGIN:VEVENT
DTSTART;VALUE=DATE:20260404
DTEND;VALUE=DATE:20260405
DTSTAMP:20260422T180627
CREATED:20260122T113050Z
LAST-MODIFIED:20260122T113050Z
UID:6702-1775260800-1775347199@www.shocklachoviatt.cheshire.sch.uk
SUMMARY:Cafe Church @ St Marys Church in Tilston
DESCRIPTION:
URL:https://www.shocklachoviatt.cheshire.sch.uk/event/cafe-church-st-marys-church-in-tilston/
END:VEVENT
BEGIN:VEVENT
DTSTART;VALUE=DATE:20260402
DTEND;VALUE=DATE:20260403
DTSTAMP:20260422T180627
CREATED:20250715T145745Z
LAST-MODIFIED:20250715T145748Z
UID:6257-1775088000-1775174399@www.shocklachoviatt.cheshire.sch.uk
SUMMARY:Staff inset day
DESCRIPTION:
URL:https://www.shocklachoviatt.cheshire.sch.uk/event/staff-inset-day-3/
END:VEVENT
BEGIN:VEVENT
DTSTART;VALUE=DATE:20260401
DTEND;VALUE=DATE:20260402
DTSTAMP:20260422T180627
CREATED:20250922T104425Z
LAST-MODIFIED:20250922T104425Z
UID:6389-1775001600-1775087999@www.shocklachoviatt.cheshire.sch.uk
SUMMARY:Break up for Easter
DESCRIPTION:Break up after Church
URL:https://www.shocklachoviatt.cheshire.sch.uk/event/break-up-for-easter/
END:VEVENT
BEGIN:VEVENT
DTSTART;VALUE=DATE:20260401
DTEND;VALUE=DATE:20260402
DTSTAMP:20260422T180627
CREATED:20250922T104347Z
LAST-MODIFIED:20250922T104347Z
UID:6387-1775001600-1775087999@www.shocklachoviatt.cheshire.sch.uk
SUMMARY:Easter Service @ St Edith's
DESCRIPTION:9am Nursery & KS1 (Yrs R/1/2) \n2:30PM – KS2 (Years 3/4/5/6)
URL:https://www.shocklachoviatt.cheshire.sch.uk/event/easter-service-st-ediths/
END:VEVENT
BEGIN:VEVENT
DTSTART;VALUE=DATE:20260331
DTEND;VALUE=DATE:20260401
DTSTAMP:20260422T180627
CREATED:20260223T134654Z
LAST-MODIFIED:20260223T134654Z
UID:6725-1774915200-1775001599@www.shocklachoviatt.cheshire.sch.uk
SUMMARY:Foxes Chester Zoo trip
DESCRIPTION:
URL:https://www.shocklachoviatt.cheshire.sch.uk/event/foxes-chester-zoo-trip/
END:VEVENT
BEGIN:VEVENT
DTSTART;VALUE=DATE:20260331
DTEND;VALUE=DATE:20260401
DTSTAMP:20260422T180627
CREATED:20251208T142108Z
LAST-MODIFIED:20251208T142108Z
UID:6628-1774915200-1775001599@www.shocklachoviatt.cheshire.sch.uk
SUMMARY:Squirrels forest school
DESCRIPTION:
URL:https://www.shocklachoviatt.cheshire.sch.uk/event/squirrels-forest-school-6/
END:VEVENT
BEGIN:VEVENT
DTSTART;TZID=UTC:20260330T090000
DTEND;TZID=UTC:20260330T093000
DTSTAMP:20260422T180627
CREATED:20260303T100212Z
LAST-MODIFIED:20260303T100212Z
UID:6737-1774861200-1774863000@www.shocklachoviatt.cheshire.sch.uk
SUMMARY:Rock Steady performance
DESCRIPTION:
URL:https://www.shocklachoviatt.cheshire.sch.uk/event/rock-steady-performance/
END:VEVENT
BEGIN:VEVENT
DTSTART;TZID=UTC:20260327T143000
DTEND;TZID=UTC:20260327T152000
DTSTAMP:20260422T180627
CREATED:20260326T150550Z
LAST-MODIFIED:20260326T150550Z
UID:6816-1774621800-1774624800@www.shocklachoviatt.cheshire.sch.uk
SUMMARY:Squirrels Class Assembly 2:30pm
DESCRIPTION:
URL:https://www.shocklachoviatt.cheshire.sch.uk/event/squirrels-class-assembly-230pm/
END:VEVENT
BEGIN:VEVENT
DTSTART;TZID=UTC:20260325T153000
DTEND;TZID=UTC:20260325T170000
DTSTAMP:20260422T180627
CREATED:20260313T083348Z
LAST-MODIFIED:20260313T083348Z
UID:6760-1774452600-1774458000@www.shocklachoviatt.cheshire.sch.uk
SUMMARY:EASTER FAIR
DESCRIPTION:
URL:https://www.shocklachoviatt.cheshire.sch.uk/event/easter-fair/
END:VEVENT
BEGIN:VEVENT
DTSTART;VALUE=DATE:20260325
DTEND;VALUE=DATE:20260326
DTSTAMP:20260422T180627
CREATED:20260312T164258Z
LAST-MODIFIED:20260312T164258Z
UID:6758-1774396800-1774483199@www.shocklachoviatt.cheshire.sch.uk
SUMMARY:Parents Evening Badgers
DESCRIPTION:
URL:https://www.shocklachoviatt.cheshire.sch.uk/event/parents-evening-badgers/
END:VEVENT
BEGIN:VEVENT
DTSTART;VALUE=DATE:20260324
DTEND;VALUE=DATE:20260325
DTSTAMP:20260422T180627
CREATED:20251208T141526Z
LAST-MODIFIED:20251208T141533Z
UID:6626-1774310400-1774396799@www.shocklachoviatt.cheshire.sch.uk
SUMMARY:Foxes forest school
DESCRIPTION:Foxes forest school
URL:https://www.shocklachoviatt.cheshire.sch.uk/event/foxes-forest-school-13/
END:VEVENT
BEGIN:VEVENT
DTSTART;TZID=UTC:20260319T093000
DTEND;TZID=UTC:20260319T143000
DTSTAMP:20260422T180627
CREATED:20251125T103045Z
LAST-MODIFIED:20251125T112421Z
UID:6587-1773912600-1773930600@www.shocklachoviatt.cheshire.sch.uk
SUMMARY:Squirrels Liverpool Philharmonic Hall trip
DESCRIPTION:
URL:https://www.shocklachoviatt.cheshire.sch.uk/event/squirrels-liverpool-philharmonic-hall-trip/
END:VEVENT
BEGIN:VEVENT
DTSTART;VALUE=DATE:20260318
DTEND;VALUE=DATE:20260319
DTSTAMP:20260422T180627
CREATED:20250922T103940Z
LAST-MODIFIED:20260312T164229Z
UID:6383-1773792000-1773878399@www.shocklachoviatt.cheshire.sch.uk
SUMMARY:Parents Evening ALL classes
DESCRIPTION:
URL:https://www.shocklachoviatt.cheshire.sch.uk/event/parents-evening-7/
END:VEVENT
BEGIN:VEVENT
DTSTART;VALUE=DATE:20260317
DTEND;VALUE=DATE:20260318
DTSTAMP:20260422T180627
CREATED:20251208T141435Z
LAST-MODIFIED:20251208T141435Z
UID:6624-1773705600-1773791999@www.shocklachoviatt.cheshire.sch.uk
SUMMARY:Badgers forest school
DESCRIPTION:
URL:https://www.shocklachoviatt.cheshire.sch.uk/event/badgers-forest-school-8/
END:VEVENT
BEGIN:VEVENT
DTSTART;VALUE=DATE:20260317
DTEND;VALUE=DATE:20260318
DTSTAMP:20260422T180627
CREATED:20251125T112821Z
LAST-MODIFIED:20251125T112821Z
UID:6597-1773705600-1773791999@www.shocklachoviatt.cheshire.sch.uk
SUMMARY:Squirrels trip - Park in the past (Hope)
DESCRIPTION:
URL:https://www.shocklachoviatt.cheshire.sch.uk/event/squirrels-trip-park-in-the-past-hope/
END:VEVENT
BEGIN:VEVENT
DTSTART;VALUE=DATE:20260317
DTEND;VALUE=DATE:20260318
DTSTAMP:20260422T180627
CREATED:20250922T104014Z
LAST-MODIFIED:20260312T164204Z
UID:6385-1773705600-1773791999@www.shocklachoviatt.cheshire.sch.uk
SUMMARY:Parents Evening Hedgehogs\, Foxes\, Squirrels
DESCRIPTION:
URL:https://www.shocklachoviatt.cheshire.sch.uk/event/parents-evening-8/
END:VEVENT
BEGIN:VEVENT
DTSTART;TZID=UTC:20260316T160000
DTEND;TZID=UTC:20260316T173000
DTSTAMP:20260422T180627
CREATED:20260224T121145Z
LAST-MODIFIED:20260224T121145Z
UID:6732-1773676800-1773682200@www.shocklachoviatt.cheshire.sch.uk
SUMMARY:X COUNTRY @ Ellesmere Port Sports Village
DESCRIPTION:
URL:https://www.shocklachoviatt.cheshire.sch.uk/event/x-country-ellesmere-port-sports-village/
END:VEVENT
BEGIN:VEVENT
DTSTART;VALUE=DATE:20260310
DTEND;VALUE=DATE:20260311
DTSTAMP:20260422T180628
CREATED:20251208T141351Z
LAST-MODIFIED:20251208T141351Z
UID:6622-1773100800-1773187199@www.shocklachoviatt.cheshire.sch.uk
SUMMARY:Squirrels forest school
DESCRIPTION:
URL:https://www.shocklachoviatt.cheshire.sch.uk/event/squirrels-forest-school-5/
END:VEVENT
BEGIN:VEVENT
DTSTART;TZID=UTC:20260309T163000
DTEND;TZID=UTC:20260309T190000
DTSTAMP:20260422T180628
CREATED:20251204T104900Z
LAST-MODIFIED:20251204T104903Z
UID:6601-1773073800-1773082800@www.shocklachoviatt.cheshire.sch.uk
SUMMARY:Heber Science Fair KS2 pupils
DESCRIPTION:
URL:https://www.shocklachoviatt.cheshire.sch.uk/event/heber-science-fair-ks2-pupils/
END:VEVENT
BEGIN:VEVENT
DTSTART;VALUE=DATE:20260305
DTEND;VALUE=DATE:20260306
DTSTAMP:20260422T180628
CREATED:20250922T103909Z
LAST-MODIFIED:20250922T103909Z
UID:6381-1772668800-1772755199@www.shocklachoviatt.cheshire.sch.uk
SUMMARY:World Book day
DESCRIPTION:Costume or Comfies
URL:https://www.shocklachoviatt.cheshire.sch.uk/event/world-book-day-2/
END:VEVENT
BEGIN:VEVENT
DTSTART;VALUE=DATE:20260305
DTEND;VALUE=DATE:20260306
DTSTAMP:20260422T180628
CREATED:20250722T084447Z
LAST-MODIFIED:20250722T084449Z
UID:6279-1772668800-1772755199@www.shocklachoviatt.cheshire.sch.uk
SUMMARY:WORLD BOOK DAY
DESCRIPTION:
URL:https://www.shocklachoviatt.cheshire.sch.uk/event/world-book-day/
END:VEVENT
BEGIN:VEVENT
DTSTART;VALUE=DATE:20260304
DTEND;VALUE=DATE:20260307
DTSTAMP:20260422T180628
CREATED:20250904T131645Z
LAST-MODIFIED:20250904T131645Z
UID:6314-1772582400-1772841599@www.shocklachoviatt.cheshire.sch.uk
SUMMARY:Badgers Residential - Min-Y-Don
DESCRIPTION:
URL:https://www.shocklachoviatt.cheshire.sch.uk/event/badgers-residential-min-y-don/
END:VEVENT
BEGIN:VEVENT
DTSTART;VALUE=DATE:20260303
DTEND;VALUE=DATE:20260304
DTSTAMP:20260422T180628
CREATED:20260108T103123Z
LAST-MODIFIED:20260108T103123Z
UID:6678-1772496000-1772582399@www.shocklachoviatt.cheshire.sch.uk
SUMMARY:Foxes Forest School
DESCRIPTION:
URL:https://www.shocklachoviatt.cheshire.sch.uk/event/foxes-forest-school-19/
END:VEVENT
BEGIN:VEVENT
DTSTART;VALUE=DATE:20260225
DTEND;VALUE=DATE:20260226
DTSTAMP:20260422T180628
CREATED:20260129T114333Z
LAST-MODIFIED:20260129T114333Z
UID:6717-1771977600-1772063999@www.shocklachoviatt.cheshire.sch.uk
SUMMARY:Foxes Chester Cathedral trip
DESCRIPTION:
URL:https://www.shocklachoviatt.cheshire.sch.uk/event/foxes-chester-cathedral-trip/
END:VEVENT
BEGIN:VEVENT
DTSTART;VALUE=DATE:20260224
DTEND;VALUE=DATE:20260225
DTSTAMP:20260422T180628
CREATED:20260108T103052Z
LAST-MODIFIED:20260108T103052Z
UID:6676-1771891200-1771977599@www.shocklachoviatt.cheshire.sch.uk
SUMMARY:Foxes Forest School
DESCRIPTION:
URL:https://www.shocklachoviatt.cheshire.sch.uk/event/foxes-forest-school-18/
END:VEVENT
BEGIN:VEVENT
DTSTART;VALUE=DATE:20260224
DTEND;VALUE=DATE:20260225
DTSTAMP:20260422T180628
CREATED:20251208T141143Z
LAST-MODIFIED:20251208T141143Z
UID:6618-1771891200-1771977599@www.shocklachoviatt.cheshire.sch.uk
SUMMARY:Badgers forest school
DESCRIPTION:
URL:https://www.shocklachoviatt.cheshire.sch.uk/event/badgers-forest-school-7/
END:VEVENT
BEGIN:VEVENT
DTSTART;VALUE=DATE:20260216
DTEND;VALUE=DATE:20260221
DTSTAMP:20260422T180628
CREATED:20250715T145152Z
LAST-MODIFIED:20250715T145214Z
UID:6246-1771200000-1771631999@www.shocklachoviatt.cheshire.sch.uk
SUMMARY:Half Term
DESCRIPTION:
URL:https://www.shocklachoviatt.cheshire.sch.uk/event/half-term-2/
END:VEVENT
BEGIN:VEVENT
DTSTART;TZID=UTC:20260213T130000
DTEND;TZID=UTC:20260213T210000
DTSTAMP:20260422T180628
CREATED:20250910T155614Z
LAST-MODIFIED:20250910T155614Z
UID:6329-1770987600-1771016400@www.shocklachoviatt.cheshire.sch.uk
SUMMARY:Young voice's
DESCRIPTION:
URL:https://www.shocklachoviatt.cheshire.sch.uk/event/young-voices/
END:VEVENT
BEGIN:VEVENT
DTSTART;TZID=UTC:20260213T084500
DTEND;TZID=UTC:20260213T094500
DTSTAMP:20260422T180628
CREATED:20260129T133146Z
LAST-MODIFIED:20260129T133146Z
UID:6719-1770972300-1770975900@www.shocklachoviatt.cheshire.sch.uk
SUMMARY:Love lives here - Hedgehog event
DESCRIPTION:
URL:https://www.shocklachoviatt.cheshire.sch.uk/event/love-lives-here-hedgehog-event/
END:VEVENT
BEGIN:VEVENT
DTSTART;VALUE=DATE:20260213
DTEND;VALUE=DATE:20260214
DTSTAMP:20260422T180628
CREATED:20250922T103832Z
LAST-MODIFIED:20250922T103832Z
UID:6379-1770940800-1771027199@www.shocklachoviatt.cheshire.sch.uk
SUMMARY:Break up for Half Term
DESCRIPTION:
URL:https://www.shocklachoviatt.cheshire.sch.uk/event/break-up-for-half-term/
END:VEVENT
END:VCALENDAR